BEGIN:VCALENDAR
VERSION:2.0
PRODID:-//hacksw/handcal//NONSGML v1.0//EN
BEGIN:VEVENT
SUMMARY:Championnats d'Ile-de-France Elites
UID:4476963f-6104-48ba-a437-43c72abd9d81
DTSTART:20260626T220000Z
DTEND:20260628T220000Z
LOCATION:Localisation   montreuil
CATEGORIES:Sportif
STATUS:
URL;VALUE=URI:https://www.acarpajonnais.com/evenements/2026/06/27/championnats-dile-de-france-elites-2436154
END:VEVENT
END:VCALENDAR
